BEGIN:VCALENDAR
VERSION:2.0
PRODID:-//ChamberMaster//Event Calendar 2.0//EN
METHOD:PUBLISH
X-PUBLISHED-TTL:P3D
REFRESH-INTERVAL:P3D
CALSCALE:GREGORIAN
BEGIN:VEVENT
DTSTART:20190924T213000Z
DTEND:20190924T230000Z
X-MICROSOFT-CDO-ALLDAYEVENT:FALSE
SUMMARY:Business After Hours- Magnolia Manor South
DESCRIPTION:Join us for our next Business After Hours at Magnolia Manor South!  This is a great time to network\, eat great food\, and maybe win a few prizes!\n\n\n\n#TeamChamber
X-ALT-DESC;FMTTYPE=text/html:Join us for our next Business After Hours at Magnolia Manor South!&nbsp\; This is a great time to network\, eat great food\, and maybe win a few prizes!<br />\n<br />\n#TeamChamber
LOCATION:Magnolia Manor South 3011 Veterans Parkway
UID:e.570.9643
SEQUENCE:3
DTSTAMP:20260425T114909Z
URL:http://business.moultriechamber.com/events/details/business-after-hours-magnolia-manor-south-9643
END:VEVENT

END:VCALENDAR
