BEGIN:VCALENDAR
VERSION:2.0
PRODID:-//ChamberMaster//Event Calendar 2.0//EN
METHOD:PUBLISH
X-PUBLISHED-TTL:P3D
REFRESH-INTERVAL:P3D
CALSCALE:GREGORIAN
BEGIN:VEVENT
DTSTART:20200211T223000Z
DTEND:20200212T000000Z
X-MICROSOFT-CDO-ALLDAYEVENT:FALSE
SUMMARY:Business After Hours- Legacy Village at Park Regency
DESCRIPTION:Join us for our first Business After Hours of 2020!\n\n\n\n#TeamChamber
X-ALT-DESC;FMTTYPE=text/html:Join us for our first Business After Hours of 2020!<br />\n<br />\n#TeamChamber
LOCATION:Legacy Village at Park Regency 3000 Veterans Parkway S
UID:e.570.11139
SEQUENCE:3
DTSTAMP:20260425T041052Z
URL:http://business.moultriechamber.com/events/details/business-after-hours-legacy-village-at-park-regency-11139
END:VEVENT

END:VCALENDAR
