BEGIN:VCALENDAR
VERSION:2.0
PRODID:-//ChamberMaster//Event Calendar 2.0//EN
METHOD:PUBLISH
X-PUBLISHED-TTL:P3D
REFRESH-INTERVAL:P3D
CALSCALE:GREGORIAN
BEGIN:VEVENT
DTSTART:20210406T200000Z
DTEND:20210406T210000Z
X-MICROSOFT-CDO-ALLDAYEVENT:FALSE
SUMMARY:Bunny Peep Easter Painting
DESCRIPTION:Join Rio Davies and paint this adorable bunny Peep surrounded by fingerprint jelly beans. Ages 5-15
X-ALT-DESC;FMTTYPE=text/html:Join Rio Davies and paint this adorable bunny Peep surrounded by fingerprint jelly beans. Ages 5-15
LOCATION:Colquitt County Arts Center 401 7th Avenue S.W. Moultrie\, GA 31768
UID:e.570.11345
SEQUENCE:3
DTSTAMP:20260424T102720Z
URL:http://business.moultriechamber.com/events/details/bunny-peep-easter-painting-11345
END:VEVENT

END:VCALENDAR
