BEGIN:VCALENDAR
VERSION:2.0
PRODID:-//ChamberMaster//Event Calendar 2.0//EN
METHOD:PUBLISH
X-PUBLISHED-TTL:P3D
REFRESH-INTERVAL:P3D
CALSCALE:GREGORIAN
BEGIN:VEVENT
DTSTART:20210423T200000Z
DTEND:20210423T210000Z
X-MICROSOFT-CDO-ALLDAYEVENT:FALSE
SUMMARY:Bubbles Black Paper and Pastels Drawing
DESCRIPTION:Using colored pastels\, participants will draw on black paper for an image that is made to pop and draw attention to its beauty.
X-ALT-DESC;FMTTYPE=text/html:Using colored pastels\, participants will draw on black paper for an image that is made to pop and draw attention to its beauty.
LOCATION:Colquitt County Arts Center 401 7th Avenue S.W. Moultrie\, GA 31768
UID:e.570.11350
SEQUENCE:3
DTSTAMP:20260424T112449Z
URL:http://business.moultriechamber.com/events/details/bubbles-black-paper-and-pastels-drawing-11350
END:VEVENT

END:VCALENDAR
