BEGIN:VCALENDAR
VERSION:2.0
PRODID:-//ChamberMaster//Event Calendar 2.0//EN
METHOD:PUBLISH
X-PUBLISHED-TTL:P3D
REFRESH-INTERVAL:P3D
CALSCALE:GREGORIAN
BEGIN:VEVENT
DTSTART:20210311T210000Z
DTEND:20210311T220000Z
X-MICROSOFT-CDO-ALLDAYEVENT:FALSE
SUMMARY:Brush Script Workshop
DESCRIPTION:Brush Script is a form of calligraphy that is created with a brush pen such as a felt-tip marker with a flexible tip or an actual paintbrush. The style resembles handwriting with irregular strokes that are unique to the individual. All Ages Instructor Rio Davies
X-ALT-DESC;FMTTYPE=text/html:Brush Script is a form of calligraphy that is created with a brush pen such as a felt-tip marker with a flexible tip or an actual paintbrush. The style resembles handwriting with irregular strokes that are unique to the individual. All Ages Instructor Rio Davies
LOCATION:Colquitt County Arts Center 401 7th Avenue S.W. Moultrie\, GA 31768
UID:e.570.11328
SEQUENCE:3
DTSTAMP:20260424T112806Z
URL:http://business.moultriechamber.com/events/details/brush-script-workshop-11328
END:VEVENT

END:VCALENDAR
