BEGIN:VCALENDAR
VERSION:2.0
PRODID:-//ChamberMaster//Event Calendar 2.0//EN
METHOD:PUBLISH
X-PUBLISHED-TTL:P3D
REFRESH-INTERVAL:P3D
CALSCALE:GREGORIAN
BEGIN:VEVENT
DTSTART:20171110T170000Z
DTEND:20171112T170000Z
X-MICROSOFT-CDO-ALLDAYEVENT:FALSE
SUMMARY:Broadway Bound
DESCRIPTION:Neil Simon's delightful comedy comes to the Arts Center stage.
X-ALT-DESC;FMTTYPE=text/html:Neil Simon&#39\;s delightful comedy comes to the Arts Center stage.
LOCATION:Colquitt County Arts Center Wright Auditorium
UID:e.570.8987
SEQUENCE:3
DTSTAMP:20260419T201401Z
URL:http://business.moultriechamber.com/events/details/broadway-bound-8987
END:VEVENT

END:VCALENDAR
