BEGIN:VCALENDAR
VERSION:2.0
PRODID:-//ChamberMaster//Event Calendar 2.0//EN
METHOD:PUBLISH
X-PUBLISHED-TTL:P3D
REFRESH-INTERVAL:P3D
CALSCALE:GREGORIAN
BEGIN:VEVENT
DTSTART:20190321T220000Z
DTEND:20190322T000000Z
X-MICROSOFT-CDO-ALLDAYEVENT:FALSE
SUMMARY:Boys & Girls Club Annual Founders Banquet
DESCRIPTION:Annual Founders Banquet
X-ALT-DESC;FMTTYPE=text/html:Annual Founders Banquet
LOCATION:Colquitt County High School Cafeteria
UID:e.570.9359
SEQUENCE:3
DTSTAMP:20260425T180000Z
URL:http://business.moultriechamber.com/events/details/boys-girls-club-annual-founders-banquet-9359
END:VEVENT

END:VCALENDAR
