BEGIN:VCALENDAR
VERSION:2.0
PRODID:-//ChamberMaster//Event Calendar 2.0//EN
METHOD:PUBLISH
X-PUBLISHED-TTL:P3D
REFRESH-INTERVAL:P3D
CALSCALE:GREGORIAN
BEGIN:VEVENT
DTSTART:20220127T150000Z
DTEND:20220127T203000Z
X-MICROSOFT-CDO-ALLDAYEVENT:FALSE
SUMMARY:Blood Drive @ MCCLS
DESCRIPTION:MCCLS is hosting a drive with OneBlood. All donors will receive a OneBlood Long Sleeve T-shirt and a $20 eGift Card! Plus\, a wellness checkup including blood pressure\, temperature\, iron count\, pulse\, and cholesterol screening! Sign-up online today! Appointments are encouraged\, please visit www.oneblood.org/donate - now and use sponsor code #23201
X-ALT-DESC;FMTTYPE=text/html:MCCLS is hosting a drive with OneBlood. All donors will receive a OneBlood Long Sleeve T-shirt and a $20 eGift Card! Plus\, a wellness checkup including blood pressure\, temperature\, iron count\, pulse\, and cholesterol screening! Sign-up online today! Appointments are encouraged\, please visit www.oneblood.org/donate - now and use sponsor code #23201
LOCATION:Moultrie-Colquitt Library System 504 5th Street\, SE Moultrie\, Ga
UID:e.570.11974
SEQUENCE:3
DTSTAMP:20260423T230624Z
URL:http://business.moultriechamber.com/events/details/blood-drive-mccls-11974
END:VEVENT

END:VCALENDAR
