BEGIN:VCALENDAR
VERSION:2.0
PRODID:-//ChamberMaster//Event Calendar 2.0//EN
METHOD:PUBLISH
X-PUBLISHED-TTL:P3D
REFRESH-INTERVAL:P3D
CALSCALE:GREGORIAN
BEGIN:VEVENT
DTSTART:20220726T140000Z
DTEND:20220726T150000Z
X-MICROSOFT-CDO-ALLDAYEVENT:FALSE
SUMMARY:Blippi
DESCRIPTION:Blippi is coming to Main Street Park!
X-ALT-DESC;FMTTYPE=text/html:Blippi is coming to Main Street Park!
LOCATION:Main Street Park
UID:e.570.12940
SEQUENCE:3
DTSTAMP:20260423T154954Z
URL:http://business.moultriechamber.com/events/details/blippi-12940
END:VEVENT

END:VCALENDAR
