BEGIN:VCALENDAR
VERSION:2.0
PRODID:-//ChamberMaster//Event Calendar 2.0//EN
METHOD:PUBLISH
X-PUBLISHED-TTL:P3D
REFRESH-INTERVAL:P3D
CALSCALE:GREGORIAN
BEGIN:VEVENT
DTSTART:20130610T220000Z
DTEND:20130715T233000Z
X-MICROSOFT-CDO-ALLDAYEVENT:FALSE
SUMMARY:Bereavement Support Group
DESCRIPTION:Colquitt Regional Hospice will be offering a Bereavement/ Grief Support Group beginning 6/10/2013 and running through July 15\, 2013. The group will meet 6 consecutive Mondays from 6pm to 7:30pm and will be held at Colquitt Regional Homecare\, which is located at 2516 5th Avenue SE (behind Dairy Queen and beside Paradise Apartments). There is NO fee for the support group. If you have any questions\, please contact Colquitt Regional Hospice at 229-891-2128.
X-ALT-DESC;FMTTYPE=text/html:Colquitt Regional Hospice will be offering a Bereavement/ Grief Support Group beginning 6/10/2013 and running through July 15\, 2013. The group will meet 6 consecutive&nbsp\;Mondays from 6pm to 7:30pm and will be held at Colquitt Regional Homecare\, which is located at&nbsp\;2516 5th Avenue SE (behind Dairy Queen and beside Paradise Apartments). There is NO fee for the support group. If you have any questions\, please contact Colquitt Regional Hospice at 229-891-2128.
LOCATION:Colquitt Regional Homecare 2516 5th Ave SE\, Moultrie\, GA 31788
UID:e.570.3948
SEQUENCE:3
DTSTAMP:20260425T190723Z
URL:http://business.moultriechamber.com/events/details/bereavement-support-group-06-10-2013-3948
END:VEVENT

END:VCALENDAR
