BEGIN:VCALENDAR
VERSION:2.0
PRODID:-//ChamberMaster//Event Calendar 2.0//EN
METHOD:PUBLISH
X-PUBLISHED-TTL:P3D
REFRESH-INTERVAL:P3D
CALSCALE:GREGORIAN
BEGIN:VEVENT
DTSTART:20200718T130000Z
DTEND:20200718T160000Z
X-MICROSOFT-CDO-ALLDAYEVENT:FALSE
SUMMARY:Beginning Basket Weaving
DESCRIPTION:Saturday\, July 18th 9:00 am   12:00 pm $30 Includes supplies to make a traditional egg basket Ages 12+ Instructor Connie Fritz
X-ALT-DESC;FMTTYPE=text/html:Saturday\, July 18th 9:00 am &ndash\; 12:00 pm $30 Includes supplies to make a traditional egg basket Ages 12+ Instructor Connie Fritz
LOCATION:Colquitt County Arts Center 401 7th Avenue S.W. Moultrie\, GA 31768
UID:e.570.11166
SEQUENCE:3
DTSTAMP:20260424T211655Z
URL:http://business.moultriechamber.com/events/details/beginning-basket-weaving-11166
END:VEVENT

END:VCALENDAR
