BEGIN:VCALENDAR
VERSION:2.0
PRODID:-//ChamberMaster//Event Calendar 2.0//EN
METHOD:PUBLISH
X-PUBLISHED-TTL:P3D
REFRESH-INTERVAL:P3D
CALSCALE:GREGORIAN
BEGIN:VEVENT
DTSTART:20200926T130000Z
DTEND:20200926T160000Z
X-MICROSOFT-CDO-ALLDAYEVENT:FALSE
SUMMARY:Beginning Basket Weaving
DESCRIPTION:Ages 12+ Instructor Connie Fritz Explore the ancient art form of basketry with instruction that is fun and easy to follow. All supplies are provided to create your own egg basket.
X-ALT-DESC;FMTTYPE=text/html:Ages 12+ Instructor Connie Fritz Explore the ancient art form of basketry with instruction that is fun and easy to follow. All supplies are provided to create your own egg basket.
LOCATION:Colquitt County Arts Center 401 7th Avenue S.W. Moultrie\, GA 31768
UID:e.570.11177
SEQUENCE:3
DTSTAMP:20260424T200609Z
URL:http://business.moultriechamber.com/events/details/beginning-basket-weaving-09-26-2020-11177
END:VEVENT

END:VCALENDAR
