BEGIN:VCALENDAR
VERSION:2.0
PRODID:-//ChamberMaster//Event Calendar 2.0//EN
METHOD:PUBLISH
X-PUBLISHED-TTL:P3D
REFRESH-INTERVAL:P3D
CALSCALE:GREGORIAN
BEGIN:VEVENT
DTSTART:20220705T190000Z
DTEND:20220705T200000Z
X-MICROSOFT-CDO-ALLDAYEVENT:FALSE
SUMMARY:Beginner Ukulele Workshop
DESCRIPTION:Love the Uke or want to learn? Use one of ours or bring your own. Join Mrs. Erin for an hour of learning and fun in this free workshop.
X-ALT-DESC;FMTTYPE=text/html:Love the Uke or want to learn? Use one of ours or bring your own. Join Mrs. Erin for an hour of learning and fun in this free workshop.
LOCATION:Moultrie-Colquitt Library System 504 5th Street\, SE Moultrie\, Ga.
UID:e.570.12941
SEQUENCE:3
DTSTAMP:20260423T154855Z
URL:http://business.moultriechamber.com/events/details/beginner-ukulele-workshop-12941
END:VEVENT

END:VCALENDAR
