BEGIN:VCALENDAR
VERSION:2.0
PRODID:-//ChamberMaster//Event Calendar 2.0//EN
METHOD:PUBLISH
X-PUBLISHED-TTL:P3D
REFRESH-INTERVAL:P3D
CALSCALE:GREGORIAN
BEGIN:VEVENT
DTSTART:20201104T220000Z
DTEND:20201104T230000Z
X-MICROSOFT-CDO-ALLDAYEVENT:FALSE
SUMMARY:Beginner Illustration Workshop
DESCRIPTION:This workshop is for anyone who has ever had a curiosity for drawing simple\, clean depictions of everyday life. The art of illustration can be applied in various ways\, and learning the skills taught in this workshop will help you in many of your future art projects. Art will be hand-drawn\, no computers involved. Wednesday\, November 4th 5:00 pm   6:00 pm Ages 15+ $25 Instructor Rio Davies Sign up online: https://colquittcountyarts.com/monthly-workshop-registration/
X-ALT-DESC;FMTTYPE=text/html:This workshop is for anyone who has ever had a curiosity for drawing simple\, clean depictions of everyday life. The art of illustration can be applied in various ways\, and learning the skills taught in this workshop will help you in many of your future art projects. Art will be hand-drawn\, no computers involved. Wednesday\, November 4th 5:00 pm &ndash\; 6:00 pm Ages 15+ $25 Instructor Rio Davies Sign up online: https://colquittcountyarts.com/monthly-workshop-registration/
LOCATION:Colquitt County Arts Center 401 7th Avenue S.W. Moultrie\, GA 31768
UID:e.570.11220
SEQUENCE:3
DTSTAMP:20260424T162710Z
URL:http://business.moultriechamber.com/events/details/beginner-illustration-workshop-11220
END:VEVENT

END:VCALENDAR
