BEGIN:VCALENDAR
VERSION:2.0
PRODID:-//ChamberMaster//Event Calendar 2.0//EN
METHOD:PUBLISH
X-PUBLISHED-TTL:P3D
REFRESH-INTERVAL:P3D
CALSCALE:GREGORIAN
BEGIN:VEVENT
DTSTART:20210125T153000Z
DTEND:20210129T210000Z
X-MICROSOFT-CDO-ALLDAYEVENT:FALSE
SUMMARY:Be the Artist Valentine’s Gift Set
DESCRIPTION:Interested in sending someone you love a gift set for Valentine's Day\, but you want to make it more personal and special? Reserve a time to paint a Valentine's ceramic piece during the week of January 25th   29th (from 10:30 am to 4:00 pm daily or Tuesday\, January 26th from 5:30 pm   7:30 pm) and include it in a gift set that can be picked up or delivered by the Arts Center staff on February 12th. To reserve a time call the Arts Center at 229-985-1922 open M-F 10 am   5:30 pm. (Deliveries can be made to locations within 10 miles of the Arts Center for a $10 fee on February 12th from 10:00 am to 5:00 pm.) Please call to request a delivery. Small or Large Pick & Paint Art can be chosen to paint and include in the gift. All gift sets include the Pick & Paint piece\, Valentine's cookies\, candy\, and a card that you'll sign when you paint your piece.
X-ALT-DESC;FMTTYPE=text/html:Interested in sending someone you love a gift set for Valentine&rsquo\;s Day\, but you want to make it more personal and special? Reserve a time to paint a Valentine&rsquo\;s ceramic piece during the week of January 25th &ndash\; 29th (from 10:30 am to 4:00 pm daily or Tuesday\, January 26th from 5:30 pm &ndash\; 7:30 pm) and include it in a gift set that can be picked up or delivered by the Arts Center staff on February 12th. To reserve a time call the Arts Center at 229-985-1922 open M-F 10 am &ndash\; 5:30 pm. (Deliveries can be made to locations within 10 miles of the Arts Center for a $10 fee on February 12th from 10:00 am to 5:00 pm.) Please call to request a delivery. Small or Large Pick &amp\; Paint Art can be chosen to paint and include in the gift. All gift sets include the Pick &amp\; Paint piece\, Valentine&rsquo\;s cookies\, candy\, and a card that you&rsquo\;ll sign when you paint your piece.
LOCATION:Colquitt County Arts Center 401 7th Avenue S.W. Moultrie\, GA 31768
UID:e.570.11296
SEQUENCE:3
DTSTAMP:20260424T140948Z
URL:http://business.moultriechamber.com/events/details/be-the-artist-valentine-s-gift-set-11296
END:VEVENT

END:VCALENDAR
