BEGIN:VCALENDAR
VERSION:2.0
PRODID:-//ChamberMaster//Event Calendar 2.0//EN
METHOD:PUBLISH
X-PUBLISHED-TTL:P3D
REFRESH-INTERVAL:P3D
CALSCALE:GREGORIAN
BEGIN:VEVENT
DTSTART:20210713T220000Z
DTEND:20210713T230000Z
X-MICROSOFT-CDO-ALLDAYEVENT:FALSE
SUMMARY:Barry Stewart Mann-Storyteller
DESCRIPTION:Folkloric Storytelling Tail-Waggin' Tales
X-ALT-DESC;FMTTYPE=text/html:Folkloric Storytelling Tail-Waggin&#39\; Tales
LOCATION:Main Street Park
UID:e.570.11444
SEQUENCE:3
DTSTAMP:20260424T074627Z
URL:http://business.moultriechamber.com/events/details/barry-stewart-mann-storyteller-11444
END:VEVENT

END:VCALENDAR
