BEGIN:VCALENDAR
VERSION:2.0
PRODID:-//ChamberMaster//Event Calendar 2.0//EN
METHOD:PUBLISH
X-PUBLISHED-TTL:P3D
REFRESH-INTERVAL:P3D
CALSCALE:GREGORIAN
BEGIN:VEVENT
DTSTART:20190511T180000Z
DTEND:20190511T193000Z
X-MICROSOFT-CDO-ALLDAYEVENT:FALSE
SUMMARY:Ballet Dance Recital--Princess Diaries
DESCRIPTION:Saturday\, May 11th 2:00 pm Featuring the original ballet\, "Little Red Riding Hood" performed by Arts Center Ballet students.
X-ALT-DESC;FMTTYPE=text/html:Saturday\, May 11th 2:00 pm Featuring the original ballet\, &ldquo\;Little Red Riding Hood&rdquo\; performed by Arts Center Ballet students.
LOCATION:Colquitt County Arts Center 401 7th Ave. SW
UID:e.570.9536
SEQUENCE:3
DTSTAMP:20260425T153643Z
URL:http://business.moultriechamber.com/events/details/ballet-dance-recital-princess-diaries-9536
END:VEVENT

END:VCALENDAR
