BEGIN:VCALENDAR
VERSION:2.0
PRODID:-//ChamberMaster//Event Calendar 2.0//EN
METHOD:PUBLISH
X-PUBLISHED-TTL:P3D
REFRESH-INTERVAL:P3D
CALSCALE:GREGORIAN
BEGIN:VEVENT
DTSTART:20210716T140000Z
DTEND:20210716T153000Z
X-MICROSOFT-CDO-ALLDAYEVENT:FALSE
SUMMARY:Ballerina Barbie Dance Camp
DESCRIPTION:Bring your Barbie dolls to class for ballet technique\, fun games\, and creative crafts! Friday\, July 16th 10:00 am   11:30 am (3   6 years old) 1:00 pm   2:30 pm (7   11 years old) $36 per dancer Instructor Lovedy Griner
X-ALT-DESC;FMTTYPE=text/html:Bring your Barbie dolls to class for ballet technique\, fun games\, and creative crafts! Friday\, July 16th 10:00 am &ndash\; 11:30 am (3 &ndash\; 6 years old) 1:00 pm &ndash\; 2:30 pm (7 &ndash\; 11 years old) $36 per dancer Instructor Lovedy Griner
LOCATION:Colquitt County Arts Center 401 7th Avenue S.W. Moultrie\, GA 31768
UID:e.570.11353
SEQUENCE:3
DTSTAMP:20260424T070438Z
URL:http://business.moultriechamber.com/events/details/ballerina-barbie-dance-camp-11353
END:VEVENT

END:VCALENDAR
