BEGIN:VCALENDAR
VERSION:2.0
PRODID:-//ChamberMaster//Event Calendar 2.0//EN
METHOD:PUBLISH
X-PUBLISHED-TTL:P3D
REFRESH-INTERVAL:P3D
CALSCALE:GREGORIAN
BEGIN:VEVENT
DTSTART:20210808T143000Z
DTEND:20210808T154500Z
X-MICROSOFT-CDO-ALLDAYEVENT:FALSE
SUMMARY:Back To School Sunday
DESCRIPTION:We hope you'll join us at First Baptist Church Moultrie on Sunday\, August 8thfor "Back to School Sunday." During our worship services\, we will honor school faculty and staff and will have a dedicated time of prayer for our schools. We have two service options: 8:15 & 10:30 a.m.Plus\, every teacher or school staff member that comes will receive a free gift!Thank you for all you do for our children and our community. We hope to see you at Back-to-School Sunday on August 8th!
X-ALT-DESC;FMTTYPE=text/html:We hope you&rsquo\;ll join us at First Baptist Church Moultrie on Sunday\, August 8thfor &ldquo\;Back to School Sunday.&rdquo\; During our worship services\, we will honor school faculty and staff and will have a dedicated time of prayer for our schools. We have two service options: 8:15 &amp\; 10:30 a.m.Plus\, every teacher or school staff member that comes will receive a free gift!Thank you for all you do for our children and our community. We hope to see you at Back-to-School Sunday on August 8th!
LOCATION:First Baptist Church Moultrie 400 S Main Street\, Moultrie\, GA 31768
UID:e.570.11808
SEQUENCE:3
DTSTAMP:20260424T055711Z
URL:http://business.moultriechamber.com/events/details/back-to-school-sunday-08-08-2021-11808
END:VEVENT

END:VCALENDAR
