BEGIN:VCALENDAR
VERSION:2.0
PRODID:-//ChamberMaster//Event Calendar 2.0//EN
METHOD:PUBLISH
X-PUBLISHED-TTL:P3D
REFRESH-INTERVAL:P3D
CALSCALE:GREGORIAN
BEGIN:VEVENT
DTSTART:20180813T143000Z
DTEND:20180813T153000Z
X-MICROSOFT-CDO-ALLDAYEVENT:FALSE
SUMMARY:Baby Bees
DESCRIPTION:A gentle storytime experience featuring books\, songs\, rhymes\, scarves\, shakers\, and puppets. For young children ages 0-2 years.
X-ALT-DESC;FMTTYPE=text/html:A gentle storytime experience featuring books\, songs\, rhymes\, scarves\, shakers\, and puppets. For young children ages 0-2 years.
LOCATION:Moultrie Library\, 225 S. Main St\, Moultrie (Temporary Location)
UID:e.570.9369
SEQUENCE:3
DTSTAMP:20260426T032222Z
URL:http://business.moultriechamber.com/events/details/baby-bees-9369
END:VEVENT

END:VCALENDAR
