BEGIN:VCALENDAR
VERSION:2.0
PRODID:-//ChamberMaster//Event Calendar 2.0//EN
METHOD:PUBLISH
X-PUBLISHED-TTL:P3D
REFRESH-INTERVAL:P3D
CALSCALE:GREGORIAN
BEGIN:VEVENT
DTSTART:20180924T143000Z
DTEND:20180924T153000Z
X-MICROSOFT-CDO-ALLDAYEVENT:FALSE
SUMMARY:Baby Bees
DESCRIPTION:A gentle storytime experience featuring books\, songs\, rhymes\, scarves\, shakers and puppets. For young children ages 0 -2 years.
X-ALT-DESC;FMTTYPE=text/html:A gentle storytime experience featuring books\, songs\, rhymes\, scarves\, shakers and puppets. For young children ages 0 -2 years.
LOCATION:Moultrie-Colquitt County Library\, 229 985-6540
UID:e.570.9388
SEQUENCE:3
DTSTAMP:20260426T021059Z
URL:http://business.moultriechamber.com/events/details/baby-bees-09-24-2018-9388
END:VEVENT

END:VCALENDAR
