BEGIN:VCALENDAR
VERSION:2.0
PRODID:-//ChamberMaster//Event Calendar 2.0//EN
METHOD:PUBLISH
X-PUBLISHED-TTL:P3D
REFRESH-INTERVAL:P3D
CALSCALE:GREGORIAN
BEGIN:VEVENT
DTSTART:20180910T143000Z
DTEND:20180910T153000Z
X-MICROSOFT-CDO-ALLDAYEVENT:FALSE
SUMMARY:Baby Bees
DESCRIPTION:A gentle storytime experience featuring books\, songs\, and puppets. For young children ages 0-2 years.
X-ALT-DESC;FMTTYPE=text/html:A gentle storytime experience featuring books\, songs\, and puppets. For young children ages 0-2 years.
LOCATION:Moultrie-Colquitt County Library\, 225 South Main Street
UID:e.570.9386
SEQUENCE:3
DTSTAMP:20260426T021038Z
URL:http://business.moultriechamber.com/events/details/baby-bees-09-10-2018-9386
END:VEVENT

END:VCALENDAR
