BEGIN:VCALENDAR
VERSION:2.0
PRODID:-//ChamberMaster//Event Calendar 2.0//EN
METHOD:PUBLISH
X-PUBLISHED-TTL:P3D
REFRESH-INTERVAL:P3D
CALSCALE:GREGORIAN
BEGIN:VEVENT
DTSTART:20220228T153000Z
DTEND:20220228T170000Z
X-MICROSOFT-CDO-ALLDAYEVENT:FALSE
SUMMARY:Baby Bees
DESCRIPTION:Stories\, songs\, rhymes\, and more for children ages 0-3. Storytime lasts around 20 minutes\, followed by playtime with age-appropriate toys.
X-ALT-DESC;FMTTYPE=text/html:Stories\, songs\, rhymes\, and more for children ages 0-3. Storytime lasts around 20 minutes\, followed by playtime with age-appropriate toys.
LOCATION:Moultrie-Colquitt Library System 504 5th Street\, SE Moultrie\, Ga.
UID:e.570.11988
SEQUENCE:3
DTSTAMP:20260423T230824Z
URL:http://business.moultriechamber.com/events/details/baby-bees-02-28-2022-11988
END:VEVENT

END:VCALENDAR
