BEGIN:VCALENDAR
VERSION:2.0
PRODID:-//ChamberMaster//Event Calendar 2.0//EN
METHOD:PUBLISH
X-PUBLISHED-TTL:P3D
REFRESH-INTERVAL:P3D
CALSCALE:GREGORIAN
BEGIN:VEVENT
DTSTART:20190814T160000Z
DTEND:20190814T170000Z
X-MICROSOFT-CDO-ALLDAYEVENT:FALSE
SUMMARY:August Quarterly Membership Luncheon
DESCRIPTION:Join us for our next Quarterly Membership Luncheon!  Please RSVP by Friday\, August 9th by calling (229) 985-2131\, or emailing contact@moultriechamber.com
X-ALT-DESC;FMTTYPE=text/html:Join us for our next Quarterly Membership Luncheon!&nbsp\; Please RSVP by Friday\, August 9th by calling (229) 985-2131\, or emailing contact@moultriechamber.com
LOCATION:Sundown Farms 894 Mack Dekle Road
UID:e.570.9587
SEQUENCE:3
DTSTAMP:20260425T114640Z
URL:http://business.moultriechamber.com/events/details/august-quarterly-membership-luncheon-9587
END:VEVENT

END:VCALENDAR
