BEGIN:VCALENDAR
VERSION:2.0
PRODID:-//ChamberMaster//Event Calendar 2.0//EN
METHOD:PUBLISH
X-PUBLISHED-TTL:P3D
REFRESH-INTERVAL:P3D
CALSCALE:GREGORIAN
BEGIN:VEVENT
DTSTART:20180813T220000Z
DTEND:20180813T233000Z
X-MICROSOFT-CDO-ALLDAYEVENT:FALSE
SUMMARY:Auditions-Nevermore-Senior High Students
DESCRIPTION:Nevermore: The Imaginary Life and Mysterious Death of Edgar Allan Poe\, is a musical that was written\, composed\, and directed by Jonathan Christenson\, and designed by Bretta Gerecke. It follows the tragic life of Edgar Allan Poe and the internal struggles he faced which later on inspired his writings. The script contains many references to Edgar Allan Poe's poems and short stories. The majority of the script follows the true events which took place in his life\, while other aspects are fictitious.
X-ALT-DESC;FMTTYPE=text/html:Nevermore: The Imaginary Life and Mysterious Death of Edgar Allan Poe\, is a musical that was written\, composed\, and directed by Jonathan Christenson\, and designed by Bretta Gerecke. It follows the tragic life of Edgar Allan Poe and the internal struggles he faced which later on inspired his writings. The script contains many references to Edgar Allan Poe&#39\;s poems and short stories. The majority of the script follows the true events which took place in his life\, while other aspects are fictitious.
LOCATION:Colquitt County Arts Center
UID:e.570.9307
SEQUENCE:3
DTSTAMP:20260426T032156Z
URL:http://business.moultriechamber.com/events/details/auditions-nevermore-senior-high-students-9307
END:VEVENT

END:VCALENDAR
