BEGIN:VCALENDAR
VERSION:2.0
PRODID:-//ChamberMaster//Event Calendar 2.0//EN
METHOD:PUBLISH
X-PUBLISHED-TTL:P3D
REFRESH-INTERVAL:P3D
CALSCALE:GREGORIAN
BEGIN:VEVENT
DTSTART:20200814T230000Z
DTEND:20200816T210000Z
X-MICROSOFT-CDO-ALLDAYEVENT:FALSE
SUMMARY:Arts Center Theater Tribute Show
DESCRIPTION:Following the tradition of the Grand Ole Opry Salute\, The Jay's Jam Session Salute and the USO Tribute Show of 2019 - The Arts Center Theater will present local talent in our annual Tribute Show. This year's theme is to be determined.
X-ALT-DESC;FMTTYPE=text/html:Following the tradition of the Grand Ole Opry Salute\, The Jay&#39\;s Jam Session Salute and the USO Tribute Show of 2019 - The Arts Center Theater will present local talent in our annual Tribute Show. This year&#39\;s theme is to be determined.
LOCATION:Colquitt County Arts Center
UID:e.570.11147
SEQUENCE:3
DTSTAMP:20260424T201038Z
URL:http://business.moultriechamber.com/events/details/arts-center-theater-tribute-show-11147
END:VEVENT

END:VCALENDAR
