BEGIN:VCALENDAR
VERSION:2.0
PRODID:-//ChamberMaster//Event Calendar 2.0//EN
METHOD:PUBLISH
X-PUBLISHED-TTL:P3D
REFRESH-INTERVAL:P3D
CALSCALE:GREGORIAN
BEGIN:VEVENT
DTSTART:20190201T223000Z
DTEND:20190202T030000Z
X-MICROSOFT-CDO-ALLDAYEVENT:FALSE
SUMMARY:Arts Alliance Hunt Dinner
DESCRIPTION:Arts Alliance hosts an annual Hunt Dinner to raise money for operations and improvements at the Colquitt County Arts Center.
X-ALT-DESC;FMTTYPE=text/html:Arts Alliance hosts an annual Hunt Dinner to raise money for operations and improvements at the Colquitt County Arts Center.
LOCATION:Colquitt County Arts Center
UID:e.570.9446
SEQUENCE:3
DTSTAMP:20260425T190947Z
URL:http://business.moultriechamber.com/events/details/arts-alliance-hunt-dinner-02-01-2019-9446
END:VEVENT

END:VCALENDAR
