BEGIN:VCALENDAR
VERSION:2.0
PRODID:-//ChamberMaster//Event Calendar 2.0//EN
METHOD:PUBLISH
X-PUBLISHED-TTL:P3D
REFRESH-INTERVAL:P3D
CALSCALE:GREGORIAN
BEGIN:VEVENT
DTSTART:20201017T160000Z
DTEND:20201017T210000Z
X-MICROSOFT-CDO-ALLDAYEVENT:FALSE
SUMMARY:Artoberfest 2020
DESCRIPTION:Colquitt County Arts Center is proud to announce our annual ARToberfest event to celebrate and showcase our local artists! CCAC's ARToberfest will be held at the Colquitt County Arts Center. This family-friendly fall event will include handmade\, original works by fabulous artists from across the southern region. Everyone is welcome\, and admission is FREE! If you would like to participate in ARToberFEST as a vendor\, please fill out the entry form available at colquittcountyarts.com and return it to the Arts Center no later than Monday\, September 28\, 2020. An entry fee of $20.00 per table must be paid with this form. The $20 Entry Fee is waived to Colquitt County Arts Center Artist Guild Members.
X-ALT-DESC;FMTTYPE=text/html:Colquitt County Arts Center is proud to announce our annual ARToberfest event to celebrate and showcase our local artists! CCAC&rsquo\;s ARToberfest will be held at the Colquitt County Arts Center. This family-friendly fall event will include handmade\, original works by fabulous artists from across the southern region. Everyone is welcome\, and admission is FREE! If you would like to participate in ARToberFEST as a vendor\, please fill out the entry form available at colquittcountyarts.com and return it to the Arts Center no later than Monday\, September 28\, 2020. An entry fee of $20.00 per table must be paid with this form. The $20 Entry Fee is waived to Colquitt County Arts Center Artist Guild Members.
LOCATION:Colquitt County Arts Center 401 7th Avenue S.W. Moultrie\, GA 31768
UID:e.570.11181
SEQUENCE:3
DTSTAMP:20260424T174959Z
URL:http://business.moultriechamber.com/events/details/artoberfest-2020-11181
END:VEVENT

END:VCALENDAR
