BEGIN:VCALENDAR
VERSION:2.0
PRODID:-//ChamberMaster//Event Calendar 2.0//EN
METHOD:PUBLISH
X-PUBLISHED-TTL:P3D
REFRESH-INTERVAL:P3D
CALSCALE:GREGORIAN
BEGIN:VEVENT
DTSTART;VALUE=DATE:20211016
DTEND;VALUE=DATE:20211017
TRANSP:TRANSPARENT
X-MICROSOFT-CDO-ALLDAYEVENT:TRUE
SUMMARY:Artoberfest
DESCRIPTION:Hands on art for children\, music\, food\, art vendors and more await the community for the Colquitt County Arts Center's annual ARTOBERFEST.
X-ALT-DESC;FMTTYPE=text/html:Hands on art for children\, music\, food\, art vendors and more await the community for the Colquitt County Arts Center&#39\;s annual ARTOBERFEST.
LOCATION:Colquitt County Arts Cenetr 401 Seventh Ave SW Moultrie GA 31768
UID:e.570.11267
SEQUENCE:3
DTSTAMP:20260424T031243Z
URL:http://business.moultriechamber.com/events/details/artoberfest-10-16-2021-11267
END:VEVENT

END:VCALENDAR
