BEGIN:VCALENDAR
VERSION:2.0
PRODID:-//ChamberMaster//Event Calendar 2.0//EN
METHOD:PUBLISH
X-PUBLISHED-TTL:P3D
REFRESH-INTERVAL:P3D
CALSCALE:GREGORIAN
BEGIN:VEVENT
DTSTART:20181013T180000Z
DTEND:20181014T000000Z
X-MICROSOFT-CDO-ALLDAYEVENT:FALSE
SUMMARY:Artoberfest
DESCRIPTION:Mark your calendars! Colquitt County Arts Center's ARToberFEST will be held on downtown Moultrie's beautiful Courthouse Square on October 13\, 2018. This family friendly fall event will include handmade\, original works by fabulous artists from across Southwest Georgia. Fine Art Original Crafts Live Music Dance Food Vendors Children's Activities Maker Space & More If you are interested in participating in ARToberFEST as a  vendor\, please contact the Arts Center's Front Office at 229-985-1922 or download the registration form available at colquittcoutntyarts.com and bring it to the Arts Center office located at 401 7th Avenue S.W. Moultrie\, GA. Forms will also be available in our office. Deadline September 24th
X-ALT-DESC;FMTTYPE=text/html:Mark your calendars! Colquitt County Arts Center&rsquo\;s ARToberFEST will be held on downtown Moultrie&rsquo\;s beautiful Courthouse Square on October 13\, 2018. This family friendly fall event will include handmade\, original works by fabulous artists from across Southwest Georgia. Fine Art Original Crafts Live Music Dance Food Vendors Children&rsquo\;s Activities Maker Space &amp\; More If you are interested in participating in ARToberFEST as a&nbsp\; vendor\, please contact the Arts Center&rsquo\;s Front Office at 229-985-1922 or download the registration form available at colquittcoutntyarts.com and bring it to the Arts Center office located at 401 7th Avenue S.W. Moultrie\, GA. Forms will also be available in our office. Deadline September 24th
LOCATION:Downtown Moultrie Courthouse Square\, 111 1st St NE
UID:e.570.9417
SEQUENCE:3
DTSTAMP:20260426T015928Z
URL:http://business.moultriechamber.com/events/details/artoberfest-10-13-2018-9417
END:VEVENT

END:VCALENDAR
