BEGIN:VCALENDAR
VERSION:2.0
PRODID:-//ChamberMaster//Event Calendar 2.0//EN
METHOD:PUBLISH
X-PUBLISHED-TTL:P3D
REFRESH-INTERVAL:P3D
CALSCALE:GREGORIAN
BEGIN:VEVENT
DTSTART:20181013T190000Z
DTEND:20181014T010000Z
X-MICROSOFT-CDO-ALLDAYEVENT:FALSE
SUMMARY:Artoberfest
DESCRIPTION:Enjoy arts from local and regional artist and crafters. Enjoy music on the stage.
X-ALT-DESC;FMTTYPE=text/html:Enjoy arts from local and regional artist and crafters. Enjoy music on the stage.
LOCATION:On The Square
UID:e.570.9311
SEQUENCE:3
DTSTAMP:20260426T005053Z
URL:http://business.moultriechamber.com/events/details/artoberfest-10-13-2018-9311
END:VEVENT

END:VCALENDAR
