BEGIN:VCALENDAR
VERSION:2.0
PRODID:-//ChamberMaster//Event Calendar 2.0//EN
METHOD:PUBLISH
X-PUBLISHED-TTL:P3D
REFRESH-INTERVAL:P3D
CALSCALE:GREGORIAN
BEGIN:VEVENT
DTSTART:20201205T150000Z
DTEND:20201206T210000Z
X-MICROSOFT-CDO-ALLDAYEVENT:FALSE
SUMMARY:Artful Market 2020
DESCRIPTION:Enter a wonderland full of artwork from all over the region. Everything from paintings\, jewelry\, ornaments\, and more can be found within the market. Find the perfect treasure for yourself or a loved one this holiday season. Artful Market Dates December 5 & 6th\, 10:00 am   4:00 pm This year's Artful Market will be run in the Arts Center ballroom.
X-ALT-DESC;FMTTYPE=text/html:Enter a wonderland full of artwork from all over the region. Everything from paintings\, jewelry\, ornaments\, and more can be found within the market. Find the perfect treasure for yourself or a loved one this holiday season. Artful Market Dates December 5 &amp\; 6th\, 10:00 am &ndash\; 4:00 pm This year&rsquo\;s Artful Market will be run in the Arts Center ballroom.
LOCATION:Colquitt County Arts Center 401 7th Avenue S.W. Moultrie\, GA 31768
UID:e.570.11235
SEQUENCE:3
DTSTAMP:20260424T152218Z
URL:http://business.moultriechamber.com/events/details/artful-market-2020-11235
END:VEVENT

END:VCALENDAR
