BEGIN:VCALENDAR
VERSION:2.0
PRODID:-//ChamberMaster//Event Calendar 2.0//EN
METHOD:PUBLISH
X-PUBLISHED-TTL:P3D
REFRESH-INTERVAL:P3D
CALSCALE:GREGORIAN
BEGIN:VEVENT
DTSTART:20211106T120000Z
DTEND:20211106T190000Z
X-MICROSOFT-CDO-ALLDAYEVENT:FALSE
SUMMARY:Artfest - Festival & Marathon
DESCRIPTION:Artfest is a celebration of the arts with live performances\, handmade local art\, food\, & fun for the whole family! Admission and parking is free for all attendees. This year we will host an accredited half-marathon\, 5K\, family fun run and walk in benefit of the Colquitt County Arts Center\, taking place Nov 6\, 2021.
X-ALT-DESC;FMTTYPE=text/html:Artfest is a celebration of the arts with live performances\, handmade local art\, food\, &amp\; fun for the whole family! Admission and parking is free for all attendees. This year we will host an accredited half-marathon\, 5K\, family fun run and walk in benefit of the Colquitt County Arts Center\, taking place Nov 6\, 2021.&nbsp\;
LOCATION:Colquitt County Arts Center 401 7th Avenue S.W. Moultrie\, GA 31768
UID:e.570.11405
SEQUENCE:3
DTSTAMP:20260424T015238Z
URL:http://business.moultriechamber.com/events/details/artfest-festival-marathon-11405
END:VEVENT

END:VCALENDAR
