BEGIN:VCALENDAR
VERSION:2.0
PRODID:-//ChamberMaster//Event Calendar 2.0//EN
METHOD:PUBLISH
X-PUBLISHED-TTL:P3D
REFRESH-INTERVAL:P3D
CALSCALE:GREGORIAN
BEGIN:VEVENT
DTSTART:20220629T140000Z
DTEND:20220629T150000Z
X-MICROSOFT-CDO-ALLDAYEVENT:FALSE
SUMMARY:Art with Abby
DESCRIPTION:Join us for some fun arts & crafts wit Abby. We will be making kites\, straw art and bubble art.
X-ALT-DESC;FMTTYPE=text/html:Join us for some fun arts &amp\; crafts wit Abby. We will be making kites\, straw art and bubble art.
LOCATION:Main Street Park
UID:e.570.12934
SEQUENCE:3
DTSTAMP:20260423T165715Z
URL:http://business.moultriechamber.com/events/details/art-with-abby-12934
END:VEVENT

END:VCALENDAR
