BEGIN:VCALENDAR
VERSION:2.0
PRODID:-//ChamberMaster//Event Calendar 2.0//EN
METHOD:PUBLISH
X-PUBLISHED-TTL:P3D
REFRESH-INTERVAL:P3D
CALSCALE:GREGORIAN
BEGIN:VEVENT
DTSTART:20201105T150000Z
DTEND:20201218T223000Z
X-MICROSOFT-CDO-ALLDAYEVENT:FALSE
SUMMARY:Art of Bugs Exhibit
DESCRIPTION:We swat them\, we squash them\, we spray them with poison -EWWW BUGS! But are they truly to be reviled\, or is there something to be admired in them? Sometimes\, in our human-centric way of viewing the world\, we overlook things often little\, seemingly ordinary things of beauty\, or that help create beauty\, in the world around us. One of those things is bugs! Through beautiful photographs by respected nature photographers from near and far\, as well as illustrated texts and materials\, this exhibit will help you discover the many fascinating ways bugs contribute to the arts. You'll be surprised to find bugs themselves that are works of art! You'll be delighted at how bugs create works of Art architecture\, music\, dance. You'll be amazed at how bugs have influenced human Arts: literature\, music\, fashion\, film\, dance\, architecture. And we hope that after viewing the exhibit instead of saying "Ewww Bugs!" you will say "Wow! Bugs!"The Art of Bug exhibit is on loan from the Tifton Museum of Arts and Heritage and will be featured in our Vereen Gallery. While our Traverse gallery will showcase the exhibit Creepy Crawlies which highlights pieces from students in our classes held at the arts center depicting their interpretation of bugs in art.
X-ALT-DESC;FMTTYPE=text/html:We swat them\, we squash them\, we spray them with poison&mdash\;-EWWW&hellip\;BUGS! But are they truly to be reviled\, or is there something to be admired in them? Sometimes\, in our human-centric way of viewing the world\, we overlook things&mdash\;often little\, seemingly ordinary things&mdash\;of beauty\, or that help create beauty\, in the world around us. One of those things is bugs! Through beautiful photographs by respected nature photographers from near and far\, as well as illustrated texts and materials\, this exhibit will help you discover the many fascinating ways bugs contribute to the arts. You&rsquo\;ll be surprised to find bugs themselves that are works of art! You&rsquo\;ll be delighted at how bugs create works of Art&hellip\;architecture\, music\, dance. You&rsquo\;ll be amazed at how bugs have influenced human Arts: literature\, music\, fashion\, film\, dance\, architecture. And we hope that after viewing the exhibit instead of saying &ldquo\;Ewww&hellip\;Bugs!&rdquo\; you will say &ldquo\;Wow! Bugs!&rdquo\;The Art of Bug exhibit is on loan from the Tifton Museum of Arts and Heritage and will be featured in our Vereen Gallery. While our Traverse gallery will showcase the exhibit Creepy Crawlies which highlights pieces from students in our classes held at the arts center depicting their interpretation of bugs in art.
LOCATION:Colquitt County Arts Center 401 7th Avenue S.W. Moultrie\, GA 31768
UID:e.570.11248
SEQUENCE:3
DTSTAMP:20260424T152054Z
URL:http://business.moultriechamber.com/events/details/art-of-bugs-exhibit-11248
END:VEVENT

END:VCALENDAR
