BEGIN:VCALENDAR
VERSION:2.0
PRODID:-//ChamberMaster//Event Calendar 2.0//EN
METHOD:PUBLISH
X-PUBLISHED-TTL:P3D
REFRESH-INTERVAL:P3D
CALSCALE:GREGORIAN
BEGIN:VEVENT
DTSTART:20210406T163000Z
DTEND:20210406T170000Z
X-MICROSOFT-CDO-ALLDAYEVENT:FALSE
SUMMARY:Are You LinkedIn?
DESCRIPTION:Ever wonder what LinkedIn  is or why it matters? Wonder how to network in this virtual world? Looking at a career pivot? Come join UGA Colquitt County FACS Agent Kathryn Holland and the Moultrie library for a four-week series on how\, where\, and why to create your own LinkedIn  account. Each week we will walk you through the profile sections and share tips on how to elevate your profile above the competition. Join us on Facebook @ugaextcolquittfacs each Tuesday in April at 12:30 pm. Contact Aileen McNair at the Moultrie Library for more information at 229- 985-6540 or email amcnair@mccls.org.
X-ALT-DESC;FMTTYPE=text/html:Ever wonder what LinkedIn&reg\; is or why it matters? Wonder how to network in this virtual world? Looking at a career pivot? Come join UGA Colquitt County FACS Agent Kathryn Holland and the Moultrie library for a four-week series on how\, where\, and why to create your own LinkedIn&reg\; account. Each week we will walk you through the profile sections and share tips on how to elevate your profile above the competition. Join us on Facebook @ugaextcolquittfacs each Tuesday in April at 12:30 pm. Contact Aileen McNair at the Moultrie Library for more information at 229- 985-6540 or email amcnair@mccls.org.
LOCATION:Facebook @ugaextcolquittfacs
UID:e.570.11344
SEQUENCE:3
DTSTAMP:20260424T102909Z
URL:http://business.moultriechamber.com/events/details/are-you-linkedin-11344
END:VEVENT

END:VCALENDAR
