BEGIN:VCALENDAR
VERSION:2.0
PRODID:-//ChamberMaster//Event Calendar 2.0//EN
METHOD:PUBLISH
X-PUBLISHED-TTL:P3D
REFRESH-INTERVAL:P3D
CALSCALE:GREGORIAN
BEGIN:VEVENT
DTSTART;VALUE=DATE:20181116
DTEND;VALUE=DATE:20181119
TRANSP:TRANSPARENT
X-MICROSOFT-CDO-ALLDAYEVENT:TRUE
SUMMARY:Annual Automotive Swap Meet
DESCRIPTION:This is a 3 Day event!-Moultrie Swap Meet is a 3 Day Automotive Event where you can find Parts\, Tools\, Literature\, Equipment\, Antique and Performance Parts\, Jewelry\, Crafts\, Clothing\, Candles\, Women's Accessories\, Collectible and Special Interest Items. Our Car Corral offers hundreds of vehicles displayed for sale. Moultrie Swap Meet is The South's Fastest Growing Swap Meet with 70\,000 Sq. Ft. of Inside Spaces and over 4\,000 outside spaces. We offer over 50 Acres of FREE Parking\, FREE Parts Hauling (TIPS ARE ALLOWED)\, 24 Hour Security\, Plenty of Great Tasting Food and Multiple Restroom Facilities plus we have a 5\,000 Ft. Airstrip on site just for added convenience. NO PETS ALLOWED! NO GOLF CARTS ALLOWED! NO CANCELLATIONS/ REFUNDS after NOVEMBER 1st\, 2018.
X-ALT-DESC;FMTTYPE=text/html:This is a 3 Day event!-Moultrie Swap Meet is a 3 Day Automotive Event where you can find Parts\, Tools\, Literature\, Equipment\, Antique and Performance Parts\, Jewelry\, Crafts\, Clothing\, Candles\, Women&#39\;s Accessories\, Collectible and Special Interest Items. Our Car Corral offers hundreds of vehicles displayed for sale. Moultrie Swap Meet is The South&#39\;s Fastest Growing Swap Meet with 70\,000 Sq. Ft. of Inside Spaces and over 4\,000 outside spaces. We offer over 50 Acres of FREE Parking\, FREE Parts Hauling (TIPS ARE ALLOWED)\, 24 Hour Security\, Plenty of Great Tasting Food and Multiple Restroom Facilities plus we have a 5\,000 Ft. Airstrip on site just for added convenience. NO PETS ALLOWED! NO GOLF CARTS ALLOWED! NO CANCELLATIONS/ REFUNDS after NOVEMBER 1st\, 2018.
LOCATION:Spence Field\, 290-G Harper Boulevard\, Moultrie\, GA 31788
UID:e.570.9384
SEQUENCE:3
DTSTAMP:20260425T233140Z
URL:http://business.moultriechamber.com/events/details/annual-automotive-swap-meet-9384
END:VEVENT

END:VCALENDAR
