BEGIN:VCALENDAR
VERSION:2.0
PRODID:-//ChamberMaster//Event Calendar 2.0//EN
METHOD:PUBLISH
X-PUBLISHED-TTL:P3D
REFRESH-INTERVAL:P3D
CALSCALE:GREGORIAN
BEGIN:VEVENT
DTSTART:20181011T230000Z
DTEND:20181012T013000Z
X-MICROSOFT-CDO-ALLDAYEVENT:FALSE
SUMMARY:Annie Kids - Musical
DESCRIPTION:With equal measures of pluck and positivity\, little orphan Annie charms everyone's hearts despite a next-to-nothing start in 1930s New York City. Annie is determined to find the parents who abandoned her years ago on the doorstep of an orphanage run by the cruel Miss Hannigan. Annie eventually foils Miss Hannigan's evil machinations\, finding a new home and family in billionaire\, Oliver Warbucks\, his personal secretary\, Grace Farrell\, and a lovable mutt named Sandy.
X-ALT-DESC;FMTTYPE=text/html:With equal measures of pluck and positivity\, little orphan Annie charms everyone&rsquo\;s hearts despite a next-to-nothing start in 1930s New York City. Annie is determined to find the parents who abandoned her years ago on the doorstep of an orphanage run by the cruel Miss Hannigan. Annie eventually foils Miss Hannigan&rsquo\;s evil machinations\, finding a new home and family in billionaire\, Oliver Warbucks\, his personal secretary\, Grace Farrell\, and a lovable mutt named Sandy.
LOCATION:Colquitt County Arts Center\, 401 7th Avenue S.W.\, Moultrie\, GA 31768
UID:e.570.9416
SEQUENCE:3
DTSTAMP:20260426T005210Z
URL:http://business.moultriechamber.com/events/details/annie-kids-musical-10-11-2018-9416
END:VEVENT

END:VCALENDAR
