BEGIN:VCALENDAR
VERSION:2.0
PRODID:-//ChamberMaster//Event Calendar 2.0//EN
METHOD:PUBLISH
X-PUBLISHED-TTL:P3D
REFRESH-INTERVAL:P3D
CALSCALE:GREGORIAN
BEGIN:VEVENT
DTSTART:20190426T130000Z
DTEND:20190428T200000Z
X-MICROSOFT-CDO-ALLDAYEVENT:FALSE
SUMMARY:Anne Abgott Watercolor Workshop
DESCRIPTION:April 26th   28th 9:00 am   4:00 pm $300 per participant Supply list to be provided upon registration. Class is limited to 15 students. About Anne Abgott http://www.anneabgott.com/ Anne moved to Florida in 1998 and began working in watercolor. She is very influenced by the light and color she finds in Florida\, and she has honed her skills with many\, many hours of painting. She has found an art-rich environment in Florida and feels that the encouragement and friendship of the local artists are a big part of her success. She is an acclaimed mentor and true master teacher. She has been an "art mom" to her students\, and many have gone on to become accomplished and award-winning artists themselves. She has conducted over 100 workshops and is in demand as a juror for many exhibitions. Her latest contract is with the Watercolor Art Society-Houston\, or WAS-H\, for a workshop and judging their upcoming National Show in 2016.
X-ALT-DESC;FMTTYPE=text/html:April 26th &ndash\; 28th 9:00 am &ndash\; 4:00 pm $300 per participant Supply list to be provided upon registration. Class is limited to 15 students. About Anne Abgott http://www.anneabgott.com/ Anne moved to Florida in 1998 and began working in watercolor. She is very influenced by the light and color she finds in Florida\, and she has honed her skills with many\, many hours of painting. She has found an art-rich environment in Florida and feels that the encouragement and friendship of the local artists are a big part of her success. She is an acclaimed mentor and true master teacher. She has been an &ldquo\;art mom&rdquo\; to her students\, and many have gone on to become accomplished and award-winning artists themselves. She has conducted over 100 workshops and is in demand as a juror for many exhibitions. Her latest contract is with the Watercolor Art Society-Houston\, or WAS-H\, for a workshop and judging their upcoming National Show in 2016.
LOCATION:Colquitt County Arts Center 401 7th Avenue S.W. Moultrie\, GA 31768
UID:e.570.9517
SEQUENCE:3
DTSTAMP:20260425T174923Z
URL:http://business.moultriechamber.com/events/details/anne-abgott-watercolor-workshop-9517
END:VEVENT

END:VCALENDAR
