BEGIN:VCALENDAR
VERSION:2.0
PRODID:-//ChamberMaster//Event Calendar 2.0//EN
METHOD:PUBLISH
X-PUBLISHED-TTL:P3D
REFRESH-INTERVAL:P3D
CALSCALE:GREGORIAN
BEGIN:VEVENT
DTSTART:20210621T143000Z
DTEND:20210621T153000Z
X-MICROSOFT-CDO-ALLDAYEVENT:FALSE
SUMMARY:Animal Tales' Live Animal Show
DESCRIPTION:Animal Tales' Live Animal Show features an engaging and knowledgeable presenter and animal ambassadors from all over the world in an "edZOOcational" experience that you won't forget. Bring your own chairs/blankets and we'll sit under the big shade tree.
X-ALT-DESC;FMTTYPE=text/html:Animal Tales&#39\; Live Animal Show features an engaging and knowledgeable presenter and animal ambassadors from all over the world in an &quot\;edZOOcational&quot\; experience that you won&#39\;t forget. Bring your own chairs/blankets and we&#39\;ll sit under the big shade tree.
LOCATION:Bert Harsh Park next door to the Moultrie Library @ 204 5th St SE\, Moultrie\, GA 31768
UID:e.570.11386
SEQUENCE:3
DTSTAMP:20260424T081949Z
URL:http://business.moultriechamber.com/events/details/animal-tales-live-animal-show-11386
END:VEVENT

END:VCALENDAR
