BEGIN:VCALENDAR
VERSION:2.0
PRODID:-//ChamberMaster//Event Calendar 2.0//EN
METHOD:PUBLISH
X-PUBLISHED-TTL:P3D
REFRESH-INTERVAL:P3D
CALSCALE:GREGORIAN
BEGIN:VEVENT
DTSTART:20180716T210000Z
DTEND:20180716T220000Z
X-MICROSOFT-CDO-ALLDAYEVENT:FALSE
SUMMARY:Animal Tales
DESCRIPTION:These animals were born to rock! A hands-on experience featuring exotic wildlife from all over the globe.
X-ALT-DESC;FMTTYPE=text/html:These animals were born to rock! A hands-on experience featuring exotic wildlife from all over the globe.
LOCATION:Doerun Library\, 185 N Freeman St.\, Doerun
UID:e.570.9321
SEQUENCE:3
DTSTAMP:20260426T043512Z
URL:http://business.moultriechamber.com/events/details/animal-tales-07-16-2018-9321
END:VEVENT

END:VCALENDAR
