BEGIN:VCALENDAR
VERSION:2.0
PRODID:-//ChamberMaster//Event Calendar 2.0//EN
METHOD:PUBLISH
X-PUBLISHED-TTL:P3D
REFRESH-INTERVAL:P3D
CALSCALE:GREGORIAN
BEGIN:VEVENT
DTSTART:20240624T183000Z
DTEND:20240624T193000Z
X-MICROSOFT-CDO-ALLDAYEVENT:FALSE
SUMMARY:Animal Tales
DESCRIPTION:Our friends from Animal Tales will take us on a fun interactive Zoofari around the globe with animal ambassadors from six different continents.
X-ALT-DESC;FMTTYPE=text/html:Our friends from Animal Tales will take us on a fun interactive Zoofari around the globe with animal ambassadors from six different continents.
LOCATION:Doerun Community Library 185 N Freeman St\, Doerun\, GA
UID:e.570.13286
SEQUENCE:3
DTSTAMP:20260422T115931Z
URL:http://business.moultriechamber.com/events/details/animal-tales-06-24-2024-13286
END:VEVENT

END:VCALENDAR
