BEGIN:VCALENDAR
VERSION:2.0
PRODID:-//ChamberMaster//Event Calendar 2.0//EN
METHOD:PUBLISH
X-PUBLISHED-TTL:P3D
REFRESH-INTERVAL:P3D
CALSCALE:GREGORIAN
BEGIN:VEVENT
DTSTART:20190402T160000Z
DTEND:20190402T170000Z
X-MICROSOFT-CDO-ALLDAYEVENT:FALSE
SUMMARY:Moultrie-Colquitt County Chamber of Commerce Ambassador Committee Meeting
DESCRIPTION:Our Ambassador Committee meets on the first Tuesday of every month at noon on the 3rd floor of the Chamber of Commerce. Our Ambassadors serve as official greeters for the Chamber and business community at Ribbon Cuttings\, Ground Breakings\, Business After Hours\, the Golf Tournament\, the Annual Banquet\, and other events. Ambassadors are responsible for contacting members to keep them informed of activities and are able to encourage other local organizations to join the Chamber. An ?Ambassador of the Month? is awarded during each monthly meeting.
X-ALT-DESC;FMTTYPE=text/html:Our Ambassador Committee meets on the first Tuesday of every month at noon on the 3rd floor of the Chamber of Commerce. Our Ambassadors serve as official greeters for the Chamber and business community at Ribbon Cuttings\, Ground Breakings\, Business After Hours\, the Golf Tournament\, the Annual Banquet\, and other events. Ambassadors are responsible for contacting members to keep them informed of activities and are able to encourage other local organizations to join the Chamber. An ?Ambassador of the Month? is awarded during each monthly meeting.
LOCATION:Moultrie-Colquitt County Chamber of Commerce\, 3rd Floor
UID:e.570.9123
SEQUENCE:3
DTSTAMP:20260425T164446Z
URL:http://business.moultriechamber.com/events/details/ambassador-committee-meeting-04-02-2019-9123
END:VEVENT

END:VCALENDAR
