BEGIN:VCALENDAR
VERSION:2.0
PRODID:-//ChamberMaster//Event Calendar 2.0//EN
METHOD:PUBLISH
X-PUBLISHED-TTL:P3D
REFRESH-INTERVAL:P3D
CALSCALE:GREGORIAN
BEGIN:VEVENT
DTSTART:20200710T160000Z
DTEND:20200710T173000Z
X-MICROSOFT-CDO-ALLDAYEVENT:FALSE
SUMMARY:All Ages Cartooning Class
DESCRIPTION:Fridays July 10th\, 17th\, 24th $50 supplies provided Cartoon Kids Class (ages 6   12) 12:00 pm   1:30 pm Teenage Cartoonist (ages 13   17) 2:00 pm   3:30 pm Cartoon Officials (ages 18 and up) 4:00 pm   5:30 pm Learn the basics for doodling and cartoons building on fundamentals using shapes and lines. Students will create their own characters and put them into comic strip format. Introducing basic animals and everyday items and learning the different facial expressions and body movements opening up the imagination for cartooning. Instructor: Rio Davies
X-ALT-DESC;FMTTYPE=text/html:Fridays July 10th\, 17th\, 24th $50 supplies provided Cartoon Kids Class (ages 6 &ndash\; 12) 12:00 pm &ndash\; 1:30 pm Teenage Cartoonist (ages 13 &ndash\; 17) 2:00 pm &ndash\; 3:30 pm Cartoon Officials (ages 18 and up) 4:00 pm &ndash\; 5:30 pm Learn the basics for doodling and cartoons building on fundamentals using shapes and lines. Students will create their own characters and put them into comic strip format. Introducing basic animals and everyday items and learning the different facial expressions and body movements opening up the imagination for cartooning. Instructor: Rio Davies
LOCATION:Colquitt County Arts Center 401 7th Avenue S.W. Moultrie\, GA 31768
UID:e.570.11167
SEQUENCE:3
DTSTAMP:20260424T211715Z
URL:http://business.moultriechamber.com/events/details/all-ages-cartooning-class-11167
END:VEVENT

END:VCALENDAR
