BEGIN:VCALENDAR
VERSION:2.0
PRODID:-//ChamberMaster//Event Calendar 2.0//EN
METHOD:PUBLISH
X-PUBLISHED-TTL:P3D
REFRESH-INTERVAL:P3D
CALSCALE:GREGORIAN
BEGIN:VEVENT
DTSTART:20181027T140000Z
DTEND:20181027T160000Z
X-MICROSOFT-CDO-ALLDAYEVENT:FALSE
SUMMARY:Alcohol Ink Workshop
DESCRIPTION:Experience the freedom and unexpected surprises in painting with alcohol ink. You will create 4 practice pieces and a ceramic tile. Instructor Harvie Ann Cox
X-ALT-DESC;FMTTYPE=text/html:Experience the freedom and unexpected surprises in painting with alcohol ink. You will create 4 practice pieces and a ceramic tile. Instructor Harvie Ann Cox
LOCATION:Colquitt County Arts Center\, 401 7th Avenue S.W.\, Moultrie\, GA 31768
UID:e.570.9423
SEQUENCE:3
DTSTAMP:20260426T004144Z
URL:http://business.moultriechamber.com/events/details/alcohol-ink-workshop-9423
END:VEVENT

END:VCALENDAR
