BEGIN:VCALENDAR
VERSION:2.0
PRODID:-//ChamberMaster//Event Calendar 2.0//EN
METHOD:PUBLISH
X-PUBLISHED-TTL:P3D
REFRESH-INTERVAL:P3D
CALSCALE:GREGORIAN
BEGIN:VEVENT
DTSTART:20210720T140000Z
DTEND:20210720T160000Z
X-MICROSOFT-CDO-ALLDAYEVENT:FALSE
SUMMARY:Ag in the Classroom
DESCRIPTION:Ag in the classroom with Greta Collins from Colquitt County Farm Bureau. Come see what is growing around Moultrie. See what insect and animals are good for gardens and taste some Moultrie grown garden treats.
X-ALT-DESC;FMTTYPE=text/html:Ag in the classroom with Greta Collins from Colquitt County Farm Bureau. Come see what is growing around Moultrie. See what insect and animals are good for gardens and taste some Moultrie grown garden treats.
LOCATION:Main Street Park
UID:e.570.11446
SEQUENCE:3
DTSTAMP:20260424T065050Z
URL:http://business.moultriechamber.com/events/details/ag-in-the-classroom-11446
END:VEVENT

END:VCALENDAR
