BEGIN:VCALENDAR
VERSION:2.0
PRODID:-//ChamberMaster//Event Calendar 2.0//EN
METHOD:PUBLISH
X-PUBLISHED-TTL:P3D
REFRESH-INTERVAL:P3D
CALSCALE:GREGORIAN
BEGIN:VEVENT
DTSTART:20190404T123000Z
DTEND:20190404T133000Z
X-MICROSOFT-CDO-ALLDAYEVENT:FALSE
SUMMARY:Moultrie-Colquitt County Chamber of Commerce Agricultural & Rural Services Committee Meeting
DESCRIPTION:Our Agricultural & Rural Services Committee meets every first Thursday of the month (except for May\, June\, & July). There are several events that are planned and hosted through this Committee. A major event of the year is the VIP Farm Tour held at the Sunbelt Ag Expo. The purpose of this tour is to acquaint state legislators and officials with the realities of the farming industry and to highlight Colquitt County as an agricultural showplace. We host the Farm Safety Day for 5th graders in March. The goal of Farm Safety Day is to save lives and prevent injuries to children on our area farms. Our Agricultural & Rural Services Committee is involved in bringing together agricultural industries and retail establishments during Farm-City Week. This Committee also hosts the Farmer's Appreciation Dinner.
X-ALT-DESC;FMTTYPE=text/html:Our Agricultural &amp\; Rural Services Committee meets every first Thursday of the month (except for May\, June\, &amp\; July). There are several events that are planned and hosted through this Committee. A major event of the year is the VIP Farm Tour held at the Sunbelt Ag Expo. The purpose of this tour is to acquaint state legislators and officials with the realities of the farming industry and to highlight Colquitt County as an agricultural showplace. We host the Farm Safety Day for 5th graders in March. The goal of Farm Safety Day is to save lives and prevent injuries to children on our area farms. Our Agricultural &amp\; Rural Services Committee is involved in bringing together agricultural industries and retail establishments during Farm-City Week. This Committee also hosts the Farmer&#39\;s Appreciation Dinner.
LOCATION:Moultrie-Colquitt County Chamber of Commerce\, 2nd Floor
UID:e.570.9147
SEQUENCE:3
DTSTAMP:20260425T164341Z
URL:http://business.moultriechamber.com/events/details/ag-committee-meeting-04-04-2019-9147
END:VEVENT

END:VCALENDAR
