BEGIN:VCALENDAR
VERSION:2.0
PRODID:-//ChamberMaster//Event Calendar 2.0//EN
METHOD:PUBLISH
X-PUBLISHED-TTL:P3D
REFRESH-INTERVAL:P3D
CALSCALE:GREGORIAN
BEGIN:VEVENT
DTSTART:20220205T150000Z
DTEND:20220206T043000Z
X-MICROSOFT-CDO-ALLDAYEVENT:FALSE
SUMMARY:African American Genealogy & More
DESCRIPTION:Experienced genealogy researcher\, Ms. Perida Mitchell\, will guide us in how to research family history. This workshop will be beneficial to beginners and experienced researchers. This free workshop will also include a tour of the Ellen Payne Odom Library
X-ALT-DESC;FMTTYPE=text/html:Experienced genealogy researcher\, Ms. Perida Mitchell\, will guide us in how to research family history. This workshop will be beneficial to beginners and experienced researchers. This free workshop will also include a tour of the Ellen Payne Odom Library
LOCATION:Moultrie-Colquitt Library System 504 5th Street\, SE Moultrie\, Ga
UID:e.570.11973
SEQUENCE:3
DTSTAMP:20260423T231044Z
URL:http://business.moultriechamber.com/events/details/african-american-genealogy-more-11973
END:VEVENT

END:VCALENDAR
