BEGIN:VCALENDAR
VERSION:2.0
PRODID:-//ChamberMaster//Event Calendar 2.0//EN
METHOD:PUBLISH
X-PUBLISHED-TTL:P3D
REFRESH-INTERVAL:P3D
CALSCALE:GREGORIAN
BEGIN:VEVENT
DTSTART;VALUE=DATE:20210614
DTEND;VALUE=DATE:20210619
TRANSP:TRANSPARENT
X-MICROSOFT-CDO-ALLDAYEVENT:TRUE
SUMMARY:Adventure Camp at the YMCA
DESCRIPTION:Adventure Camp is the ultimate outdoor experience!  We will have a blast zip lining\, playing paintball\, learning archery skills\, teamwork skills and much more while making friends and memories for a lifetime. Every campers favorite part of camp is free time in the afternoon when they have a chance to build their own fort in the woods. \n\n\n\n For more information see www.moultrieymca.org !!
X-ALT-DESC;FMTTYPE=text/html:<span style="color:#000000"><span style="font-family:arial\,helvetica\,sans-serif"><span style="font-size:12px"><span style="background-color:rgb(255\, 255\, 255)">Adventure Camp is the ultimate outdoor experience!&nbsp\; We will have a blast zip lining\, playing paintball\, learning archery skills\, teamwork skills and much more while making friends and memories for a lifetime. Every campers favorite part of camp is free time in the afternoon when they have a chance to build their own fort in the woods.&nbsp\;<br />\n<br />\n&nbsp\;For more information see www.moultrieymca.org !!</span></span></span></span>
LOCATION:Moultrie YMCA
UID:e.570.11462
SEQUENCE:3
DTSTAMP:20260424T075820Z
URL:http://business.moultriechamber.com/events/details/adventure-camp-at-the-ymca-11462
END:VEVENT

END:VCALENDAR
