BEGIN:VCALENDAR
VERSION:2.0
PRODID:-//ChamberMaster//Event Calendar 2.0//EN
METHOD:PUBLISH
X-PUBLISHED-TTL:P3D
REFRESH-INTERVAL:P3D
CALSCALE:GREGORIAN
BEGIN:VEVENT
DTSTART:20220309T170000Z
DTEND:20220401T160000Z
X-MICROSOFT-CDO-ALLDAYEVENT:FALSE
SUMMARY:Adult Softball
DESCRIPTION:Registration is open now $450 fee per team Deadline: April 1st 2022 www.mccpra.com
X-ALT-DESC;FMTTYPE=text/html:Registration is open now $450 fee per team Deadline: April 1st 2022 www.mccpra.com
LOCATION:
UID:e.570.12033
SEQUENCE:3
DTSTAMP:20260423T194959Z
URL:http://business.moultriechamber.com/events/details/adult-softball-12033
END:VEVENT

END:VCALENDAR
